BEGIN:VCALENDAR
VERSION:2.0
PRODID:-//hacksw/handcal//NONSGML v1.0//EN
BEGIN:VEVENT
DTSTART:20150325T200000
DTEND:20150325T223000
LOCATION:Hotel Melia Vendôme \n8 RUE CAMBON \n75001 PARIS
ORGANIZER;CN=Philippe DUTHEIL - Club Private Equity:MAILTO:ph.dutheil@gmail.com
SUMMARY:Happy Hours Networking - 25 mars 2015
DESCRIPTION:Le Club Private Equity a le plaisir de vous convier à : \nSon premier HAPPY HOURS NETWORKING de l'année !\nMercredi 25 mars à partir de 20h00\nau Bar de l’Hôtel Melia Vendôme\nMeliá Vendôme Boutique...
URL:https://www.dauphine-alumni.org/fr/group/club-private-equity/27/calendar/happy-hours-networking-25-mars-2015/2015/03/25/945
BEGIN:VALARM
TRIGGER:-P0DT1H0M0S
ACTION:DISPLAY
END:VALARM
END:VEVENT
END:VCALENDAR