BEGIN:VCALENDAR
VERSION:2.0
PRODID:-//hacksw/handcal//NONSGML v1.0//EN
BEGIN:VEVENT
DTSTART:20150115T173000
DTEND:20150115T190000
LOCATION:Université Paris-Dauphine
ORGANIZER;CN=Lionel SOUTENARE:MAILTO:webmaster@dauphine-alumni.org
SUMMARY:Colloque - 2015 La nouvelle donne Fiscale
DESCRIPTION:\nADEPP \nAssociation du Master 223 - Droit du Patrimoine Professionnel  \n- Université Paris-Dauphine -\n \nPrésident : Raphaël de Valence \nTrésorier : Thomas Quiniou / Secrétaire Générale : Olivia ...
URL:https://www.dauphine-alumni.org/fr/event/colloque-2015-la-nouvelle-donne-fiscale/2015/01/15/891
BEGIN:VALARM
TRIGGER:-P0DT1H0M0S
ACTION:DISPLAY
END:VALARM
END:VEVENT
END:VCALENDAR