BEGIN:VCALENDAR
VERSION:2.0
PRODID:-//hacksw/handcal//NONSGML v1.0//EN
BEGIN:VEVENT
DTSTART:20120316T080000
DTEND:20120316T100000
LOCATION:Université Paris-Dauphine
ORGANIZER;CN=Lionel SOUTENARE:MAILTO:webmaster@dauphine-alumni.org
SUMMARY:Club Dauphine Media - Petit-déjeuner atelier RH
DESCRIPTION:\nLe Club Dauphine Media a le plaisir de vous convier à sa première table ronde RH sur le thème :\n \n “Net working or Not working ?”\nou l’importance du réseau pour booster sa carrière dans les...
URL:https://www.dauphine-alumni.org/fr/event/club-dauphine-media-petit-dejeuner-atelier-rh/2012/03/16/89
BEGIN:VALARM
TRIGGER:-P0DT1H0M0S
ACTION:DISPLAY
END:VALARM
END:VEVENT
END:VCALENDAR