BEGIN:VCALENDAR
VERSION:2.0
PRODID:-//hacksw/handcal//NONSGML v1.0//EN
BEGIN:VEVENT
DTSTART:20150119T120000
DTEND:20150119T140000
LOCATION:Université Paris-Dauphine
ORGANIZER;CN=Lionel SOUTENARE:MAILTO:webmaster@dauphine-alumni.org
SUMMARY:Pôle Développement Mobilité Carrière - Comment améliorer votre visibilité professionnelle grâce à LinkedIn ?
DESCRIPTION:Le Pôle Développement Mobilité Carrière de DAUPHINE ALUMNI  a le plaisir de vous convier à une rencontre sur le thème :\nRéseaux sociaux professionnels : \nComment améliorer votre visibilité...
URL:https://www.dauphine-alumni.org/fr/event/pole-developpement-mobilite-carriere-comment-ameliorer-votre-visibilite-professionnelle-grace-a-linkedin/2015/01/19/869
BEGIN:VALARM
TRIGGER:-P0DT1H0M0S
ACTION:DISPLAY
END:VALARM
END:VEVENT
END:VCALENDAR