BEGIN:VCALENDAR
VERSION:2.0
PRODID:-//hacksw/handcal//NONSGML v1.0//EN
BEGIN:VEVENT
DTSTART:20120126T173000
DTEND:20120126T190000
LOCATION:Université Paris-Dauphine
ORGANIZER;CN=Lionel SOUTENARE:MAILTO:webmaster@dauphine-alumni.org
SUMMARY:L'Association Humanités&Management 26 janvier 2012
DESCRIPTION:L'Association Humanités&Management a le plaisir de vous convier à la nouvelle conférence du cycle "Éthique et RSE : quelles régulations managériales pour les entreprises de demain".\nEntreprises et...
URL:https://www.dauphine-alumni.org/fr/event/l-association-humanites-management-26-janvier-2012/2012/01/26/69
BEGIN:VALARM
TRIGGER:-P0DT1H0M0S
ACTION:DISPLAY
END:VALARM
END:VEVENT
END:VCALENDAR