BEGIN:VCALENDAR
VERSION:2.0
PRODID:-//hacksw/handcal//NONSGML v1.0//EN
BEGIN:VEVENT
DTSTART:20131122T140000
DTEND:20131122T160000
LOCATION:Université Paris-Dauphine
ORGANIZER;CN=Françoise DILLEMANN:MAILTO:
SUMMARY:Pôle Développement Mobilité Carrière de DAUPHINE ALUMNI - L'entretien de recrutement
DESCRIPTION:Le Pôle Développement Mobilité Carrière de DAUPHINE ALUMNI  en collaboration avec le cabinet Savoir-Faire ont le plaisir de vous convier à une rencontre sur le thème :\n \n \n"L'entretien de...
URL:https://www.dauphine-alumni.org/fr/event/pole-developpement-mobilite-carriere-de-dauphine-alumni-l-entretien-de-recrutement/2013/11/22/457
BEGIN:VALARM
TRIGGER:-P0DT1H0M0S
ACTION:DISPLAY
END:VALARM
END:VEVENT
END:VCALENDAR