BEGIN:VCALENDAR
VERSION:2.0
PRODID:-//hacksw/handcal//NONSGML v1.0//EN
BEGIN:VEVENT
DTSTART:20130425T190000
DTEND:20130425T220000
LOCATION:Hôtel Mélia Vendôme \n8 RUE CAMBON \n75001 PARIS
ORGANIZER;CN=Lionel SOUTENARE:MAILTO:webmaster@dauphine-alumni.org
SUMMARY:Club Dauphine Entrepreneurs - Happy hours
DESCRIPTION:Le Club Dauphine Entrepreneurs a le plaisir de vous convier à son Happy Hours le :\n \n \n \nJeudi 25 avril 2013 à partir de 19h00\nau Bar de l’Hôtel Mélia Vendôme\n8 rue Cambon, Paris...
URL:https://www.dauphine-alumni.org/fr/event/-club-dauphine-entrepreneurs-happy-hours/2013/04/25/367
BEGIN:VALARM
TRIGGER:-P0DT1H0M0S
ACTION:DISPLAY
END:VALARM
END:VEVENT
END:VCALENDAR