BEGIN:VCALENDAR
VERSION:2.0
PRODID:-//hacksw/handcal//NONSGML v1.0//EN
BEGIN:VEVENT
DTSTART:20260509T100000
DTEND:20260509T153000
LOCATION:Village Pilote au Lac rose \nDENI BIRAM NDAO NORD \n3260 DAKAR
ORGANIZER;CN=Érika DORWLING - CARTER - Chapter Sénégal:MAILTO:contact@dauphine-alumni.org
SUMMARY:Journée Solidaire
DESCRIPTION:Le Chapter Sénégal de Dauphine Alumni a le plaisir de vous inviter à son premier évènement dans le Centre d'Accueil Village Pilote : \nJournée Solidaire\nSamedi 9 mai à 10h\nVillage Pilote - Lac...
URL:https://www.dauphine-alumni.org/fr/group/chapter-senegal/303/calendar/journee-solidaire/2026/05/09/3272
BEGIN:VALARM
TRIGGER:-P0DT1H0M0S
ACTION:DISPLAY
END:VALARM
END:VEVENT
END:VCALENDAR