BEGIN:VCALENDAR
VERSION:2.0
PRODID:-//hacksw/handcal//NONSGML v1.0//EN
BEGIN:VEVENT
DTSTART:20260416T180000
DTEND:20260416T204500
LOCATION:Shangri-La Hotel Paris \n10 AVENUE D IENA \n75116 PARIS
ORGANIZER;CN=Érika DORWLING - CARTER:MAILTO:contact@dauphine-alumni.org
SUMMARY:Cercle Wine Business avec Jean-François Faure, CEO & Fondateur de AuCOFFRE
DESCRIPTION:\nChristophe Chenut, président de Dauphine Alumni\nAlain Marty, président-fondateur du Cercle Wine Business\nont le plaisir de vous convier à la prochaine Soirée du Cercle Wine Business Jeudi 16 avril...
URL:https://www.dauphine-alumni.org/fr/event/cercle-wine-business-avec-jean-francois-faure-ceo-fondateur-de-aucoffre/2026/04/16/3266
BEGIN:VALARM
TRIGGER:-P0DT1H0M0S
ACTION:DISPLAY
END:VALARM
END:VEVENT
END:VCALENDAR