BEGIN:VCALENDAR
VERSION:2.0
PRODID:-//hacksw/handcal//NONSGML v1.0//EN
BEGIN:VEVENT
DTSTART:20260521T190000
DTEND:20260521T200000
LOCATION:Université Paris Dauphine - PSL \nPLACE DU MARECHAL DE LATTRE DE TASSIGNY
ORGANIZER;CN=Érika DORWLING - CARTER:MAILTO:contact@dauphine-alumni.org
SUMMARY:Le Management de Transition
DESCRIPTION:Le Pôle Mobilité Carrière, vous propose de participer à un atelier en présentiel sur le thème du :  \nManagement de Transition : \nUn atout stratégique pour l’entreprise, une opportunité pour votre...
URL:https://www.dauphine-alumni.org/fr/event/le-management-de-transition/2026/05/21/3241
BEGIN:VALARM
TRIGGER:-P0DT1H0M0S
ACTION:DISPLAY
END:VALARM
END:VEVENT
END:VCALENDAR