BEGIN:VCALENDAR
VERSION:2.0
PRODID:-//hacksw/handcal//NONSGML v1.0//EN
BEGIN:VEVENT
DTSTART:20260214T103000
DTEND:20260214T140000
LOCATION:Club La Mariana – Dourdan \nRTE DE LA BATE  \n78730  LONGVILLIERS
ORGANIZER;CN=Lionel SOUTENARE - Club Polo:MAILTO:webmaster@dauphine-alumni.org
SUMMARY:Initiation au Polo – Club La Mariana
DESCRIPTION:Le Club Polo vous propose uneInitiation au Polo – Club La Mariana\nSamedi 14 février à 10h30\nClub La Mariana – Dourdan\nNous vous donnons rendez-vous au club La Mariana à Dourdan pour une initiation ...
URL:https://www.dauphine-alumni.org/fr/group/club-polo/179/calendar/initiation-au-polo-club-la-mariana/2026/02/14/3196
BEGIN:VALARM
TRIGGER:-P0DT1H0M0S
ACTION:DISPLAY
END:VALARM
END:VEVENT
END:VCALENDAR