BEGIN:VCALENDAR
VERSION:2.0
PRODID:-//hacksw/handcal//NONSGML v1.0//EN
BEGIN:VEVENT
DTSTART:20260201T103000
DTEND:20260201T120000
LOCATION:Polo Club du Domaine de Chantilly - La Ferme d'Apremont \nRUE DE VERNEUIL  \n60300 APREMONT
ORGANIZER;CN=Lionel SOUTENARE - Club Polo:MAILTO:webmaster@dauphine-alumni.org
SUMMARY:Initiation au Polo – Polo de Chantilly
DESCRIPTION:Le Club Polo vous invite à uneInitiation au Polo\nDimanche 1er février à 10h30\nArena du Polo de Chantilly\nNous vous donnons rendez-vous en matinée pour une initiation au polo, ouverte à tous, dans...
URL:https://www.dauphine-alumni.org/fr/group/club-polo/179/calendar/initiation-au-polo-polo-de-chantilly/2026/02/01/3194
BEGIN:VALARM
TRIGGER:-P0DT1H0M0S
ACTION:DISPLAY
END:VALARM
END:VEVENT
END:VCALENDAR