BEGIN:VCALENDAR
VERSION:2.0
PRODID:-//hacksw/handcal//NONSGML v1.0//EN
BEGIN:VEVENT
DTSTART:20250921T110000
DTEND:20250921T160000
LOCATION:Ferme d'Apremont \nRUE DE VERNEUIL \n60300 APREMONT
ORGANIZER;CN=Lionel SOUTENARE - Club Polo:MAILTO:webmaster@dauphine-alumni.org
SUMMARY:Finale de l'open de France au Polo
DESCRIPTION:Le Club Polo vous convie à la Finale de l'open de France au Polo\nDimanche 21 septembre à partir de 11h00\nFerme d'Apremont\nNous vous donnons rendez-vous à partir de midi pour un pique-nique...
URL:https://www.dauphine-alumni.org/fr/group/club-polo/179/calendar/finale-de-l-open-de-france-au-polo/2025/09/21/3120
BEGIN:VALARM
TRIGGER:-P0DT1H0M0S
ACTION:DISPLAY
END:VALARM
END:VEVENT
END:VCALENDAR