BEGIN:VCALENDAR
VERSION:2.0
PRODID:-//hacksw/handcal//NONSGML v1.0//EN
BEGIN:VEVENT
DTSTART:20250329T143000
DTEND:20250329T180000
LOCATION:Polo Club du Domaine de Chantilly \nLA FERME D APREMONT \n60300 APREMONT
ORGANIZER;CN=Guillaume LE BEILLAN - Club Polo:MAILTO:glebeillan@headsearching.com
SUMMARY:44e tournoi de l'Association Polo  des Grandes Écoles, Écoles & Universités
DESCRIPTION:Le Club Polo vous convie à la \n 44e tournoi de l'Association Polo \ndes Grandes Écoles, Écoles & UniversitésSamedi 29 mars 2025 à partir de 14h30\nPolo Club de Chantilly à Apremont\nVenez soutenir...
URL:https://www.dauphine-alumni.org/fr/group/club-polo/179/calendar/-44e-tournoi-de-l-association-polo-des-grandes-ecoles-ecoles-universites/2025/03/29/3028
BEGIN:VALARM
TRIGGER:-P0DT1H0M0S
ACTION:DISPLAY
END:VALARM
END:VEVENT
END:VCALENDAR