BEGIN:VCALENDAR
VERSION:2.0
PRODID:-//hacksw/handcal//NONSGML v1.0//EN
BEGIN:VEVENT
DTSTART:20240504T110000
DTEND:20240504T180000
LOCATION:u-Bahn OST Bahnhof \nHONSELLSTRASE \n60314 FRANKFURT AM MAIN
ORGANIZER;CN=Antoine BROYE - Chapter Francfort:MAILTO:broye_antoine@hotmail.com
SUMMARY:Visit and Wine Tasting
DESCRIPTION:Dear Alumni and students,\nWe will meet at 1100 at Honsellstrasse (u-Bahn OST Bahnhof). We need a few cars to drive to the Rheingau region.\nWe will first go to a restaurant and then visit the weingut...
URL:https://www.dauphine-alumni.org/fr/group/chapter-francfort/273/calendar/visit-and-wine-tasting/2024/05/04/2845
BEGIN:VALARM
TRIGGER:-P0DT1H0M0S
ACTION:DISPLAY
END:VALARM
END:VEVENT
END:VCALENDAR