BEGIN:VCALENDAR
VERSION:2.0
PRODID:-//hacksw/handcal//NONSGML v1.0//EN
BEGIN:VEVENT
DTSTART:20181017T190000
DTEND:20181017T235500
LOCATION:Université Paris-Dauphine \nPLACE DU MARECHAL DE LATTRE DE TASSIGNY \n75016 PARIS
ORGANIZER;CN=Sibylle AUBOYNEAU:MAILTO:delegue@dauphine-alumni.org
SUMMARY:1ère édition des prix Made in Dauphine
DESCRIPTION:Prix Made In Dauphine, le prix qui récompense les plus beaux parcours dauphinois ! \nLe mercredi 17 Octobre 2018 à 19h00 un jury 100% dauphinois \nrécompense les talents Made In Dauphine. \nÀ...
URL:https://www.dauphine-alumni.org/fr/event/1ere-edition-des-prix-made-in-dauphine/2018/10/17/2035
BEGIN:VALARM
TRIGGER:-P0DT1H0M0S
ACTION:DISPLAY
END:VALARM
END:VEVENT
END:VCALENDAR