BEGIN:VCALENDAR
VERSION:2.0
PRODID:-//hacksw/handcal//NONSGML v1.0//EN
BEGIN:VEVENT
DTSTART:20180607T190000
DTEND:20180607T220000
LOCATION:Université Paris-Dauphine  \nPLACE DU MARECHAL DE LATTRE DE TASSIGNY \n75016 PARIS
ORGANIZER;CN=Hugo PICAPER - Club Digital, Media & Communication:MAILTO:hugo.picaper@gmail.com
SUMMARY:Soirée débat autour du film SNCF au féminin
DESCRIPTION:Le Club Digital Media & Communication et le Club Dauphine au Féminin ont le plaisir de vous convier à une soirée débat autour du film "SNCF au féminin" en partenariat avec le réseau Toutes Femmes,...
URL:https://www.dauphine-alumni.org/fr/group/club-digital-media-communication/35/calendar/soiree-debat-autour-du-film-sncf-au-feminin/2018/06/07/2002
BEGIN:VALARM
TRIGGER:-P0DT1H0M0S
ACTION:DISPLAY
END:VALARM
END:VEVENT
END:VCALENDAR