BEGIN:VCALENDAR
VERSION:2.0
PRODID:-//hacksw/handcal//NONSGML v1.0//EN
BEGIN:VEVENT
DTSTART:20180315T123000
DTEND:20180315T140000
LOCATION:Les P'tits Fayots  \n8 RUE DE L ESQUILE \n31000 TOULOUSE
ORGANIZER;CN=Ludovic CRAISSAC - Chapter Toulouse:MAILTO:ludovic.craissac@gmail.com
SUMMARY:Déjeuner Alumni à Toulouse
DESCRIPTION:Comme décidé collectivement le 15 février dernier notre de notre première réunion de 2018, et suite aux résultats du Doodle proposé, nous nous retrouverons le  : \nJeudi 15 mars 2018 de 12h30  à...
URL:https://www.dauphine-alumni.org/fr/group/chapter-toulouse/149/calendar/dejeuner-alumni-a-toulouse/2018/03/15/1956
BEGIN:VALARM
TRIGGER:-P0DT1H0M0S
ACTION:DISPLAY
END:VALARM
END:VEVENT
END:VCALENDAR