BEGIN:VCALENDAR
VERSION:2.0
PRODID:-//hacksw/handcal//NONSGML v1.0//EN
BEGIN:VEVENT
DTSTART:20171116T121500
DTEND:20171116T134500
LOCATION:Université Paris-Dauphine
ORGANIZER;CN=Sibylle AUBOYNEAU:MAILTO:delegue@dauphine-alumni.org
SUMMARY:Comment linkedIn peut-il booster votre succès professionnel ?
DESCRIPTION:\nComment linkedIn peut-il booster votre succès professionnel ?\n \n \nJeudi 16 novembre 2017 de 12h15 à 13h45\nà l'Université Paris-Dauphine\nSalle A709\n \nIntervenant \nStéphane Loiret \nPrésident ...
URL:https://www.dauphine-alumni.org/fr/event/comment-linkedin-peut-il-booster-votre-succes-professionnel/2017/11/16/1891
BEGIN:VALARM
TRIGGER:-P0DT1H0M0S
ACTION:DISPLAY
END:VALARM
END:VEVENT
END:VCALENDAR