BEGIN:VCALENDAR
VERSION:2.0
PRODID:-//hacksw/handcal//NONSGML v1.0//EN
BEGIN:VEVENT
DTSTART:20170227T190000
DTEND:20170227T220000
LOCATION:Université Paris-Dauphine
ORGANIZER;CN=Lionel SOUTENARE:MAILTO:webmaster@dauphine-alumni.org
SUMMARY:Le Mash Up & D-Start vous invitent à leur événement : Startups et Storytelling 
DESCRIPTION:\n
URL:https://www.dauphine-alumni.org/fr/event/le-mash-up-d-start-vous-invitent-a-leur-evenement-startups-et-storytelling/2017/02/27/1671
BEGIN:VALARM
TRIGGER:-P0DT1H0M0S
ACTION:DISPLAY
END:VALARM
END:VEVENT
END:VCALENDAR