BEGIN:VCALENDAR
VERSION:2.0
PRODID:-//hacksw/handcal//NONSGML v1.0//EN
BEGIN:VEVENT
DTSTART:20161214T140000
DTEND:20161214T160000
LOCATION:Université Paris-Dauphine
ORGANIZER;CN=Lionel SOUTENARE:MAILTO:webmaster@dauphine-alumni.org
SUMMARY:Workshop "trust and governance"
DESCRIPTION:\nWorkshop "Trust and Governance"\nMercredi 14 décembre 2016 de 14h00 à 16h00\nSalle A709 - 7ème étage\nDeveloping a governance structure in a culture of trust takes a conscious and significant effort...
URL:https://www.dauphine-alumni.org/fr/event/workshop-trust-and-governance/2016/12/14/1595
BEGIN:VALARM
TRIGGER:-P0DT1H0M0S
ACTION:DISPLAY
END:VALARM
END:VEVENT
END:VCALENDAR