BEGIN:VCALENDAR
VERSION:2.0
PRODID:-//hacksw/handcal//NONSGML v1.0//EN
BEGIN:VEVENT
DTSTART:20161104T183000
DTEND:20161104T200000
LOCATION:Université Paris-Dauphine
ORGANIZER;CN=Elisabeth ILBOUDO - Club Afrique:MAILTO:elisabeth.ilboudo@wanadoo.fr
SUMMARY:Workshop Dauphine Alumni Afrique
DESCRIPTION:\nWorkshop Dauphine Alumni Afrique le :\nVendredi 4 avril 2016 à 18h30 à l'Université Paris-Dauphine \nBureau de Dauphine Alumni (ou par skype : ilboudo9089, soit par téléphone). \n \nAu sommaire...
URL:https://www.dauphine-alumni.org/fr/group/club-afrique/21/calendar/workshop-dauphine-alumni-afrique/2016/11/04/1563
BEGIN:VALARM
TRIGGER:-P0DT1H0M0S
ACTION:DISPLAY
END:VALARM
END:VEVENT
END:VCALENDAR