BEGIN:VCALENDAR
VERSION:2.0
PRODID:-//hacksw/handcal//NONSGML v1.0//EN
BEGIN:VEVENT
DTSTART:20161110T080000
DTEND:20161110T190000
LOCATION:Université Paris-Dauphine
ORGANIZER;CN=Lionel SOUTENARE:MAILTO:webmaster@dauphine-alumni.org
SUMMARY:€ Day Paris 2016, the 1st European Business Day
DESCRIPTION:\nL'Université Paris-Dauphine et le Journal du Dimanche organisent la première édition de cette journée de débats avec des décideurs politiques et économiques de haut niveau sur l'avenir du projet...
URL:https://www.dauphine-alumni.org/fr/event/e-day-paris-2016-the-1st-european-business-day/2016/11/10/1545
BEGIN:VALARM
TRIGGER:-P0DT1H0M0S
ACTION:DISPLAY
END:VALARM
END:VEVENT
END:VCALENDAR