BEGIN:VCALENDAR
VERSION:2.0
PRODID:-//hacksw/handcal//NONSGML v1.0//EN
BEGIN:VEVENT
DTSTART:20160314T190000
DTEND:20160314T220000
LOCATION:Université Paris-Dauphine
ORGANIZER;CN=Lionel SOUTENARE:MAILTO:webmaster@dauphine-alumni.org
SUMMARY:« L’avenir des métiers de la banque, le recrutement des Talents et le programme d’excellence BNP Paribas »
DESCRIPTION:\n \n
URL:https://www.dauphine-alumni.org/fr/event/-l-avenir-des-metiers-de-la-banque-le-recrutement-des-talents-et-le-programme-d-excellence-bnp-paribas/2016/03/14/1344
BEGIN:VALARM
TRIGGER:-P0DT1H0M0S
ACTION:DISPLAY
END:VALARM
END:VEVENT
END:VCALENDAR