BEGIN:VCALENDAR
VERSION:2.0
PRODID:-//hacksw/handcal//NONSGML v1.0//EN
BEGIN:VEVENT
DTSTART:20151124T180000
DTEND:20151124T200000
LOCATION:Université Paris-Dauphine
ORGANIZER;CN=Lionel SOUTENARE:MAILTO:webmaster@dauphine-alumni.org
SUMMARY:Masterclasse exceptionnelle : Cap sur la COP 21
DESCRIPTION:\n \nLe PDG d'EDF, le député François de Rugy, le directeur de la rédaction de Libération, l'ancien PDG d'Areva TA... \nTous les quatre sont les invités de Dauphine Discussion Débat à l'occasion du...
URL:https://www.dauphine-alumni.org/fr/event/masterclasse-exceptionnelle-cap-sur-la-cop-21/2015/11/24/1221
BEGIN:VALARM
TRIGGER:-P0DT1H0M0S
ACTION:DISPLAY
END:VALARM
END:VEVENT
END:VCALENDAR