BEGIN:VCALENDAR
VERSION:2.0
PRODID:-//hacksw/handcal//NONSGML v1.0//EN
BEGIN:VEVENT
DTSTART:20151117T190000
DTEND:20151117T203000
LOCATION:Université Paris-Dauphine
ORGANIZER;CN=Lionel SOUTENARE:MAILTO:webmaster@dauphine-alumni.org
SUMMARY:Carrière & Mobilité - Réunion d'Information
DESCRIPTION:\nCarrière & Mobilité a le plaisir de vous convier :\nÀ une réunion d'Information sur le\nSéminaire d’aide au repositionnement professionnel\n \nMardi 17 novembre 2015 de 19h à 20h30 \nà l'Université ...
URL:https://www.dauphine-alumni.org/fr/event/carriere-mobilite-reunion-d-information/2015/11/17/1187
BEGIN:VALARM
TRIGGER:-P0DT1H0M0S
ACTION:DISPLAY
END:VALARM
END:VEVENT
END:VCALENDAR