BEGIN:VCALENDAR
VERSION:2.0
PRODID:-//hacksw/handcal//NONSGML v1.0//EN
BEGIN:VEVENT
DTSTART:20151204T140000
DTEND:20151204T160000
LOCATION:Université Paris-Dauphine \nPLACE DU MARECHAL DE LATTRE DE TASSIGNY
ORGANIZER;CN=Lionel SOUTENARE:MAILTO:webmaster@dauphine-alumni.org
SUMMARY:Les ateliers du Cycle Carrière & Mobilité - Une Démarche réseau réussie
DESCRIPTION:​\nCarrière & Mobilité a le plaisir de vous convier à sa 2ème rencontre du «Cycle Carrière & Mobilité » sur le thème :\nUne Démarche réseau réussie\nvendredi 04 décembre 2015 de 14h à 16h\nà...
URL:https://www.dauphine-alumni.org/fr/event/les-ateliers-du-cycle-carriere-mobilite-une-demarche-reseau-reussie/2015/12/04/1185
BEGIN:VALARM
TRIGGER:-P0DT1H0M0S
ACTION:DISPLAY
END:VALARM
END:VEVENT
END:VCALENDAR