BEGIN:VCALENDAR
VERSION:2.0
PRODID:-//hacksw/handcal//NONSGML v1.0//EN
BEGIN:VEVENT
DTSTART:20150706T183000
DTEND:20150706T210000
LOCATION:Maison des ingénieurs Agro \n5 QUAI VOLTAIRE \n75007 PARIS
ORGANIZER;CN=Françoise DILLEMANN:MAILTO:
SUMMARY:Pôle Mobilité Carrière de Dauphine Alumni - Réussir grâce à vos talents animé par Thierry Dubois
DESCRIPTION:\n
URL:https://www.dauphine-alumni.org/fr/event/pole-mobilite-carriere-de-dauphine-alumni-reussir-grace-a-vos-talents-anime-par-thierry-dubois/2015/07/06/1071
BEGIN:VALARM
TRIGGER:-P0DT1H0M0S
ACTION:DISPLAY
END:VALARM
END:VEVENT
END:VCALENDAR