BEGIN:VCALENDAR
VERSION:2.0
PRODID:-//hacksw/handcal//NONSGML v1.0//EN
BEGIN:VEVENT
DTSTART:20120403T180000
DTEND:20120403T200000
LOCATION:Université Paris-Dauphine
ORGANIZER;CN=Lionel SOUTENARE:MAILTO:webmaster@dauphine-alumni.org
SUMMARY:Master 225
DESCRIPTION:En partenariat avec DAUPHINE ALUMNI, le Master 225 « Finance d’Entreprise et Ingénierie Financière » a le plaisir de vous convier à sa conférence annuelle :\n \n« UN CAPITALISME FINANCIER \nSANS...
URL:https://www.dauphine-alumni.org/fr/event/master-225/2012/04/03/103
BEGIN:VALARM
TRIGGER:-P0DT1H0M0S
ACTION:DISPLAY
END:VALARM
END:VEVENT
END:VCALENDAR